BEGIN:VCALENDAR
VERSION:2.0
PRODID:-//Ramanalayam - ECPv5.12.4//NONSGML v1.0//EN
CALSCALE:GREGORIAN
METHOD:PUBLISH
X-WR-CALNAME:Ramanalayam
X-ORIGINAL-URL:https://www.sriramanalayam.org
X-WR-CALDESC:Events for Ramanalayam
REFRESH-INTERVAL;VALUE=DURATION:PT1H
X-Robots-Tag:noindex
X-PUBLISHED-TTL:PT1H
BEGIN:VTIMEZONE
TZID:UTC
BEGIN:STANDARD
TZOFFSETFROM:+0000
TZOFFSETTO:+0000
TZNAME:UTC
DTSTART:20220101T000000
END:STANDARD
END:VTIMEZONE
BEGIN:VEVENT
DTSTART;VALUE=DATE:20220220
DTEND;VALUE=DATE:20220221
DTSTAMP:20260422T222825
CREATED:20220218T085944Z
LAST-MODIFIED:20220224T050315Z
UID:3226-1645315200-1645401599@www.sriramanalayam.org
SUMMARY:Monthly Spiritual Luncheons
DESCRIPTION:sponsored by Mr Alalasundaram and family (United Kingdom) in remembrance of Late Surveyor Sinnappu and Annamma\, Mr Muthubalasuriyar and Karpagam\, and Mr Ritchie Amirthalingam (New Zealand).
URL:https://www.sriramanalayam.org/event/monthly-spiritual-luncheons/
LOCATION:Ramanalayam\, #404 Kadduvan-Mallakam road Kadduvan\, Tellipalai\, Jaffna\, 4000\, Sri Lanka
ATTACH;FMTTYPE=image/jpeg:https://www.sriramanalayam.org/wp-content/uploads/2022/02/WhatsApp-Image-2022-02-21-at-8.31.00-AM.jpeg
END:VEVENT
END:VCALENDAR