BEGIN:VCALENDAR
VERSION:2.0
PRODID:-//Ramanalayam - ECPv5.12.4//NONSGML v1.0//EN
CALSCALE:GREGORIAN
METHOD:PUBLISH
X-WR-CALNAME:Ramanalayam
X-ORIGINAL-URL:https://www.sriramanalayam.org
X-WR-CALDESC:Events for Ramanalayam
REFRESH-INTERVAL;VALUE=DURATION:PT1H
X-Robots-Tag:noindex
X-PUBLISHED-TTL:PT1H
BEGIN:VTIMEZONE
TZID:UTC
BEGIN:STANDARD
TZOFFSETFROM:+0000
TZOFFSETTO:+0000
TZNAME:UTC
DTSTART:20220101T000000
END:STANDARD
END:VTIMEZONE
BEGIN:VEVENT
DTSTART;VALUE=DATE:20220430
DTEND;VALUE=DATE:20220503
DTSTAMP:20260422T162628
CREATED:20220302T062240Z
LAST-MODIFIED:20220310T103831Z
UID:3900-1651276800-1651535999@www.sriramanalayam.org
SUMMARY:Refine your Yoga - Residential camp
DESCRIPTION:A proposed residential yoga camp from 30th April to 2nd of May. A four-day yoga camp to refine your purpose and posture in yogasana. Please contact if you are interested. Please write to ramanalayam.sl@gmail.com. As places are limited\, early expression of interest is recommended.
URL:https://www.sriramanalayam.org/event/refine-your-yoga/
LOCATION:Ramanalayam\, #404 Kadduvan-Mallakam road Kadduvan\, Tellipalai\, Jaffna\, 4000\, Sri Lanka
CATEGORIES:Yoga
ATTACH;FMTTYPE=image/jpeg:https://www.sriramanalayam.org/wp-content/uploads/2022/02/WhatsApp-Image-2022-02-22-at-9.15.59-PM.jpeg
END:VEVENT
BEGIN:VEVENT
DTSTART;VALUE=DATE:20220515
DTEND;VALUE=DATE:20220516
DTSTAMP:20260422T162628
CREATED:20220315T150214Z
LAST-MODIFIED:20220316T013650Z
UID:4012-1652572800-1652659199@www.sriramanalayam.org
SUMMARY:Monthly Spiritual luncheons
DESCRIPTION:The luncheon is kindly sponsored by Mrs Sasikala Kathirgamarajah (UK\, formerly of Kadduvan) in remembrance of her husband\, Late Mr Rasiah Kathirgamarajah (Kana)\, formerly of Inuvil.
URL:https://www.sriramanalayam.org/event/4012/
LOCATION:Ramanalayam\, #404 Kadduvan-Mallakam road Kadduvan\, Tellipalai\, Jaffna\, 4000\, Sri Lanka
ATTACH;FMTTYPE=image/jpeg:https://www.sriramanalayam.org/wp-content/uploads/2022/02/WhatsApp-Image-2022-02-21-at-8.31.00-AM.jpeg
END:VEVENT
END:VCALENDAR